BEGIN:VCALENDAR
VERSION:2.0
PRODID:-//360 Alumni//Morehouse College//EN
METHOD:REQUEST
BEGIN:VEVENT
UID:6222
DTSTAMP:20191121T160000Z
DTSTART:20191121T160000Z
DTEND:20191121T190000Z
LOCATION:Morehouse campus Tech tower room 129
SUMMARY: JP Morgan Chase Software Engineer Lunch and Learn networking session
DESCRIPTION: JP Morgan Chase Global Technology representatives will be on campus to share information about various opportunities in technology at the firm from internships through full time positions. We will also help participants tweak or create their resumes

Food and beverages will be provided

&nbsp;
END:VEVENT
END:VCALENDAR
