BEGIN:VCALENDAR
VERSION:2.0
PRODID:-//360 Alumni//Morehouse College//EN
METHOD:REQUEST
BEGIN:VEVENT
UID:6223
DTSTAMP:20191121T220000Z
DTSTART:20191121T220000Z
DTEND:20191121T233000Z
LOCATION:Morehouse campus Tech tower room 129
SUMMARY: JP Morgan Chase workshop - Acing the technical interview
DESCRIPTION: Coding assessments are becoming an important part of an employers job application and interview process. During this workshop we&rsquo;ll provide advice to help you tackle those coding challenges and questions during an interview.&nbsp;

&nbsp;

Food and beverages will be provided

RSVP by Monday 11/18 at noon&nbsp;here &nbsp;https://jpmc.recsolu.com/external/events/CaJpgudK3ix3ZiKZVL0hBg&nbsp;
END:VEVENT
END:VCALENDAR
