BEGIN:VCALENDAR
VERSION:2.0
PRODID:-//360 Alumni//Morehouse College//EN
METHOD:REQUEST
BEGIN:VEVENT
UID:6319
DTSTAMP:20200215T230000Z
DTSTART:20200215T230000Z
DTEND:20200216T030000Z
LOCATION:Hyatt Regency Atlanta
SUMMARY: Candle in the Dark Pricing Adjustments
DESCRIPTION: Pricing adjustments to tickets and tables for the 32nd annual &#39;A Candle in the Dark&#39; gala.
END:VEVENT
END:VCALENDAR
