BEGIN:VCALENDAR
VERSION:2.0
PRODID:-//360 Alumni//Morehouse College//EN
METHOD:REQUEST
BEGIN:VEVENT
UID:6383
DTSTAMP:20200115T210000Z
DTSTART:20200115T210000Z
DTEND:20200203T220000Z
LOCATION:online event
SUMMARY: Admiral Holsey Ad Contribution
DESCRIPTION: If you would like to make a&nbsp;donation towards the $5000 full page ad in honor of Bennie Award honoree Admiral Alvin R. Holsey, please register and make your donation below. Donations are available in increments of $1000, $500, $200 and $100.&nbsp;

Advertisement donations are not interchangeable and have no direct correlation with purchasing a ticket to the 2020 &#39;A Candle in the Dark&#39; gala.&nbsp;

The deadline to receive all funds toward the ad will be February 3rd, 2020.&nbsp;&nbsp;

If you have any questions, please email Ardis Maria Blanchard by email at ardis.blanchard@morehouse.edu.
END:VEVENT
END:VCALENDAR
