BEGIN:VCALENDAR
VERSION:2.0
PRODID:-//360 Alumni//Morehouse College//EN
METHOD:REQUEST
BEGIN:VEVENT
UID:6587
DTSTAMP:20210513T160000Z
DTSTART:20210513T160000Z
DTEND:20210516T000000Z
LOCATION:Morehouse College
SUMMARY: Commencement and Reunion 2021/2022 to be celebrated May 13-15, 2022
DESCRIPTION: Let's try it again brothers. Reunion is a time of Celebration. A significant milestone in the lives of Morehouse men who lead lives of leadership and service.Each year, we gather as brothers to reminisce, reflect and reconnect with each other.&nbsp;We have to host Reunion virtually this year as the pandemic continues to impact the lives of many in our community.&nbsp;In-Person Dates: May 13-15, 2022More information to come.&nbsp;
END:VEVENT
END:VCALENDAR
