BEGIN:VCALENDAR
VERSION:2.0
PRODID:-//360 Alumni//Morehouse College//EN
METHOD:REQUEST
BEGIN:VEVENT
UID:6610
DTSTAMP:20200226T170000Z
DTSTART:20200226T170000Z
DTEND:20200226T183000Z
LOCATION:African-American Hall of Fame, Martin Luther King Jr. International Chapel
SUMMARY: Founder’s Week and Gala Planning Steering Committee Thank You Luncheon
DESCRIPTION: Dear Members of the Founder&rsquo;s Week and Gala Planning Steering Committee:&nbsp;

Words can never fully convey the enormous pride and appreciation Morehouse College has for the hours of dedication each of you invested to make Founder&rsquo;s Week and the 2020 Gala successful.

As a token of our appreciation, President Thomas and First Lady Willetta Lewis are proud to host the&nbsp;Annual Appreciation Luncheon, Wednesday, February 26 at Noon in the African-American Hall of Fame.

Please RSVP to the invitation to join us no later than 3 P.M.&nbsp;on Tuesday February 25, 2020.
END:VEVENT
END:VCALENDAR
