BEGIN:VCALENDAR
VERSION:2.0
PRODID:-//360 Alumni//Morehouse College//EN
METHOD:REQUEST
BEGIN:VEVENT
UID:6631
DTSTAMP:20200201T050000Z
DTSTART:20200201T050000Z
DTEND:20200803T040000Z
LOCATION:online event
SUMMARY: 150 Points of Light : Alumni Health Professionals Supporting Students
DESCRIPTION: Calling all Morehouse Alumni in Medicine , Dentistry and Allied Health Fields for a transformative fundraiser for The Morehouse Office of Health Professions. From 1 FEB 2020 - AUG 2020 , requesting Alumni &nbsp;Health Professionals , &nbsp;join in making a donation to the Morehouse Office of Health Professions. You chose the donation method , whether single donation or monthly donations. Only requesting all donations be &nbsp;completed by AUG 2020 . VIDEO LINK&nbsp;&nbsp;&nbsp;https://youtu.be/vLIUJJrxSUo &nbsp;

Tax Deductible Donation Link http://giving.morehouse.edu/ohp

Funds will be used to expand the Morehouse OHP Summer Science Program, Provide Scholarships for Pre Health Students, Tutorial Services for Biology , Chemistry and Organic Chemistry and to offset cost for Graduate Exam Test Prep Courses ( DAT , MCAT, GRE,GMAT) All donations are tax deductible. Join us in making history .

Donors will be &nbsp;recognized in the updated edition of &quot; Body and Soul &quot; The History of the Morehouse Office of Health Professions. For Questions contact the &nbsp;Morehouse Office of Health Professions at 470-639-0927 or &nbsp;Mrs. Felicia Murphy Phillips at the College Office of Institutional Development at 470-639-0458. Email &nbsp;bkissaved1@gmail for direct questions.

Respectfully,&nbsp;Dr. B.K.. Edmond &nbsp;86 , Project Lead&nbsp;


https://youtu.be/vLIUJJrxSUo
END:VEVENT
END:VCALENDAR
