BEGIN:VCALENDAR
VERSION:2.0
PRODID:-//360 Alumni//Morehouse College//EN
METHOD:REQUEST
BEGIN:VEVENT
UID:7512
DTSTAMP:20201012T230000Z
DTSTART:20201012T230000Z
DTEND:20201019T030000Z
LOCATION:Online
SUMMARY: 2020 Morehouse College Virtual Homecoming: Homecoming @Home
DESCRIPTION: A new kind of Homecoming:&nbsp; This year&rsquo;s Homecoming Weekend will be more than a weekend &mdash; the festivities have been expanded into a full week, from October 12-18, to provide the community with expanded access to virtual events.&nbsp;What&rsquo;s Homecoming without, well, coming home to campus?&nbsp;It&rsquo;s a new opportunity to bring the beloved tradition directly to the Morehouse community, wherever that community may be.&nbsp;&nbsp;Though the pandemic means alumni and students are not able to meet on-campus in person for Homecoming this year, it has necessitated creative new ideas for how Morehouse can make this year&rsquo;s Homecoming Weekend special &mdash;while being entirely virtual.Please visit this link to stay updated on the latest Homecoming schedule:&nbsp;https://www.wearemorehouse.org/2020-homecominghome-schedule.Happy Homecoming!
END:VEVENT
END:VCALENDAR
