BEGIN:VCALENDAR
VERSION:2.0
PRODID:-//360 Alumni//Morehouse College//EN
METHOD:REQUEST
BEGIN:VEVENT
UID:7598
DTSTAMP:20201017T173000Z
DTSTART:20201017T173000Z
DTEND:20201018T000000Z
LOCATION:online event
SUMMARY: Morehouse College Virtual Homecoming Vendor Registration
DESCRIPTION: Don&rsquo;t miss your chance to become a virtual vendor at Homecoming@Home: The 2020 Morehouse College Homecoming Virtual Tailgate.&nbsp;Booth space is now available, but&nbsp;limited to a MAXIMUM of ONE spaces per vendor. To purchase, click on the 'REGISTER' button to secure your space.Please visit:&nbsp;https://westpeekventures.typeform.com/to/AbYLB5PRto complete your registration.Morehouse College branded merchandise MAY NOT be sold without registering with Learfield prior to Homecoming. For more information about being officially licensed to sell Morehouse College branded merchandise, please email Chimere Stanford-Jefferson (chimere.stanford@morehouse.edu). All non-Morehouse merchandise is subject to approval by the Office of External Relations and Alumni Engagement.&nbsp;&nbsp;IMPORTANT PAYMENT REMINDERSVendor space registration is non-refundable.&nbsp;Cash payments will not be accepted at any time.For additional questions or concerns, please email Ardis Blanchard (ardis.blanchard@morehouse.edu) or Joe Carlos (joseph.carlos@morehouse.edu).Thank you!
END:VEVENT
END:VCALENDAR
