BEGIN:VCALENDAR
VERSION:2.0
PRODID:-//360 Alumni//Morehouse College//EN
METHOD:REQUEST
BEGIN:VEVENT
UID:7803
DTSTAMP:20201211T210000Z
DTSTART:20201211T210000Z
DTEND:20201213T180000Z
LOCATION:online event
SUMMARY: Fall Commencement honors the Graduating Class of 2020
DESCRIPTION: Morehouse College is proud to invite all members of the Morehouse community to join us for Fall 2020 Commencement Weekend.These events include the Alumni Rite of Passage Induction Ceremony, Baccalaureate Service, and Commencement Ceremony all offered virtually to protect the health and safety of our graduates, their families, and the Morehouse community.Please register here to view all events online at Morehouse.edu/Youtube.All tickets and events are free of charge. The information that you provide will assist in helping Morehouse to celebrate the Class of 2020.Thank you,Henry M. Goodgame Jr. '84Vice President, The Office of External Relations and Alumni EngagementChair, Commencement Planning Committee&nbsp;
END:VEVENT
END:VCALENDAR
