BEGIN:VCALENDAR
VERSION:2.0
PRODID:-//360 Alumni//Morehouse College//EN
METHOD:REQUEST
BEGIN:VEVENT
UID:8615
DTSTAMP:20211015T100000Z
DTSTART:20211015T100000Z
DTEND:20211022T170000Z
LOCATION:Morehouse College
SUMMARY: Morehouse Homecoming 2021 (Moved to Homecoming 2022 Registration Link)
DESCRIPTION: For 2022 Homecoming Registration, visit&nbsp;https://connect.morehouse.edu/events/view/9456&nbsp; or&nbsp;
END:VEVENT
END:VCALENDAR
