BEGIN:VCALENDAR
VERSION:2.0
PRODID:-//360 Alumni//Morehouse College//EN
METHOD:REQUEST
BEGIN:VEVENT
UID:8625
DTSTAMP:20210814T230000Z
DTSTART:20210814T230000Z
DTEND:20210815T030000Z
LOCATION:Morehouse College (Forbes)
SUMMARY: 2021 Alumni Interaction Night and Spirit Night
DESCRIPTION: Alumni Interaction and Spirit Night&nbsp;2021Join us to meet members of the enteringClasses of 2024 and 2025 to impart wisdom&nbsp;at thishistoric Morehouse New Student Orientation (NSO) tradition.&nbsp;The Office of External Affairs and Alumni Engagement would like to make you aware of engagement opportunities for alumni during&nbsp;New&nbsp;Student&nbsp;Orientation.&nbsp;As an engaged member of the Morehouse College alumni community, participation in the events listed above, will strengthen ties between alumni and members of the Class of 2024 and 2025 and expand the network of our&nbsp;newest&nbsp;students.&nbsp;We look forward to seeing you during&nbsp;New&nbsp;Student&nbsp;Orientation&nbsp;and beyond.&nbsp;Please register no later than Tuesday, August 10 at 5 pm.&nbsp;
END:VEVENT
END:VCALENDAR
