BEGIN:VCALENDAR
VERSION:2.0
PRODID:-//360 Alumni//Morehouse College//EN
METHOD:REQUEST
BEGIN:VEVENT
UID:8784
DTSTAMP:20211010T000000Z
DTSTART:20211010T000000Z
DTEND:20211010T020000Z
LOCATION:Legion Field
SUMMARY: Morehouse-Tuskegee Game
DESCRIPTION: Please join us at the Morehouse - Tuskegee Game!&nbsp;RSVP TODAY!&nbsp;&nbsp;
END:VEVENT
END:VCALENDAR
