BEGIN:VCALENDAR
VERSION:2.0
PRODID:-//360 Alumni//Morehouse College//EN
METHOD:REQUEST
BEGIN:VEVENT
UID:8873
DTSTAMP:20211102T230000Z
DTSTART:20211102T230000Z
DTEND:20211103T020000Z
LOCATION:Morehouse College
SUMMARY: Neophyte Show Fall 2021
DESCRIPTION: You are cordially invited to attend the Neophyte Presentation for the Fall 2021 Line of Alpha Phi Alpha Fraternity (Alpha Rho Chapter) on November 2, 2022 at 8:24 pm. Parents and Alpha Brothers wishing to attend this event must register to attend. Because of COVID-19 protocols, we are limiting the number of guests who can be seated in the VIP for the event to 2-4 guests initiate.&nbsp;Parking will be available in the Morehouse Parking Deck on Tuesday.Please arrive at the Welcome Center of Morehouse College between 7:00 pm and 7:30 pm to check in and receive your credentials to access the Presentation area. This year, because the Martin Luther King Jr. Auditorium and Plaza are under construction, the Presentation will take place on the Tennis Courts next to Wheeler Hall.&nbsp;&nbsp;&nbsp;&nbsp;Again, we congratulate all of our new Brothers and welcome you to the Alpha Rho Family.&nbsp;SincerelyThe Advisor Team and Members of the Alpha Rho Chapter (Morehouse College)
END:VEVENT
END:VCALENDAR
