BEGIN:VCALENDAR
VERSION:2.0
PRODID:-//360 Alumni//Morehouse College//EN
METHOD:REQUEST
BEGIN:VEVENT
UID:8993
DTSTAMP:20211215T190000Z
DTSTART:20211215T190000Z
DTEND:20211215T190000Z
LOCATION:online event
SUMMARY: Planned Giving for Maximizing Personal Philanthropic Goals
DESCRIPTION: PLANNED GIVING FOR CALENDAR YEAR-END: MAXIMIZING PERSONAL PHILANTHROPIC STRATEGIC GOALSPRESENTED BY CHUCK WESTMORGAN STANLEYFINANCIAL ADVISOR,PORTFOLIO MANAGER2PM &bull; DECEMBER 15, 2021&nbsp;FOR AGES 70+Please RSVP by calling(470) 639-​0400&nbsp;Please click here to go to the meeting link.Passcode: 1867
END:VEVENT
END:VCALENDAR
