BEGIN:VCALENDAR
VERSION:2.0
PRODID:-//360 Alumni//Morehouse College//EN
METHOD:REQUEST
BEGIN:VEVENT
UID:9080
DTSTAMP:20220204T000000Z
DTSTART:20220204T000000Z
DTEND:20220204T000000Z
LOCATION:online event
SUMMARY: Class Representative Meeting - Reunion 2022 - Feb 3 - 7 PM (Zoom)
DESCRIPTION: Join us for the monthly&nbsp;Class Representatives MeetingTime: Feb 3, 2022 07:00 PM Eastern Time (US and Canada)Each monthly meeting will go over your class reports, reunion updates, and class progress toward your class goal.&nbsp;
END:VEVENT
END:VCALENDAR
