BEGIN:VCALENDAR
VERSION:2.0
PRODID:-//360 Alumni//Morehouse College//EN
METHOD:REQUEST
BEGIN:VEVENT
UID:9672
DTSTAMP:20221104T120000Z
DTSTART:20221104T120000Z
DTEND:20221106T170000Z
LOCATION:Morehouse College
SUMMARY: Morehouse College Parents & Family Weekend 2022
DESCRIPTION: UPDATE:&nbsp;Thank you for your interest in Parents Weekend! Amazingly, we have reached our capacity for registrations! This only means that we are not able to offer you the Parents Weekend Swag and bundled ticket options. You and your family are still welcome to join us for several events this weekend! Stay informed and get the latest updates throughout the weekend in the Parents Weekend Community on&nbsp;The Parent &amp; Family Connection.We look forward to seeing you soon! &nbsp;&nbsp;Greetings!We are delighted to invite you to join us November 4 - 6, 2022 for a fun-filled weekend of quality time with your sons, fellow families and the Morehouse community.This year's activities have been planned by a committee of our very own parents, students and Morehouse staff. Below is a tentative list of some of the activities you can expect:&nbsp;FRIDAY, NOVEMBER 4REGISTRATION: 8AM - 4PMCAMPUS TOURSSIP &amp; SHOP&nbsp;KIDS SCAVENGER HUNT&nbsp;OFFICIAL WELCOME &amp; GENERAL SESSIONLUNCH &amp; LEARN (FAFSA WORKSHOP)PARENTS V. MEN OF MOREHOUSE BASKETBALL GAMESPADES &amp; DOMINOES TOURNAMENT____________________________________________________________________________SATURDAY, NOVEMBER 5REGISTRATION: 8AM - 12 NOONBRUNCHMCPC ALL PARENTS MEETINGSIP &amp; SHOPCAMPUS TOURSGREEK STEP SHOW/GREEK PARENTS STROLLFOOTBALL GAME: CLARK ATLANTA UNIV VS MOREHOUSE COLLEGEADULT ONLY BLOCK PARTY IN BORDEAUX (SEPARATE TICKET MUST BE PURCHASED)________________________________________________________________________SUNDAY, NOVEMBER 6CONTINENTAL BREAKFASTFAMILY WORSHIPFAREWELL*Please note: our events are still being finalized and are subject to change. But, we anticipate a weekend full of valuable information and fun for the family!&nbsp;Each registrant will receive Parents Weekend Swag to include:*Tote Bag*Souvenir Program Book*Tee Shirt*Lanyard*Cup&nbsp;REFUND POLICY: REGISTRANTS MAY REQUEST A 50% REFUND UNTIL OCTOBER 15, 2022. REQUESTS FOR REFUNDS SHOULD BE SENT TO PARENTS@MOREHOUSE.EDU AND MAY TAKE UP TO 30 DAYS TO BE PROCESSED.&nbsp;Recommended Hotel OptionsAloft Atlanta Downtown - $149/night300 Ted Turner Dr., NWAtlanta, GANo Booking Code Needed w/ Link BelowRESERVE ALOFT HOTEL HERE&nbsp;****************************Hyatt Place Atlanta/ Centennial Park - $175/Night300 Luckie St, NWAtlanta, GA 30313Morehouse Corporate Booking Code: 99613RESERVE HYATT PLACE HOTEL HERE&nbsp;
END:VEVENT
END:VCALENDAR
